BEGIN:VCALENDAR
VERSION:2.0
PRODID:-//wp-events-plugin.com//7.2.3.1//EN
TZID:Europe/Brussels
X-WR-TIMEZONE:Europe/Brussels
BEGIN:VEVENT
UID:1329@3legia.be
DTSTART;TZID=Europe/Brussels:20260221T141500
DTEND;TZID=Europe/Brussels:20260221T171500
DTSTAMP:20260211T212656Z
URL:https://3legia.be/events/reunion-a-cointe-2/
SUMMARY:Réunion à cointe
DESCRIPTION:
CATEGORIES:Louveteaux
LOCATION:Plaine de Cointe\, Boulevard Gustave Kleyer\, 1F/0002\, Liège\, 4
 000\, Belgique
X-APPLE-STRUCTURED-LOCATION;VALUE=URI;X-ADDRESS=Boulevard Gustave Kleyer\, 
 1F/0002\, Liège\, 4000\, Belgique;X-APPLE-RADIUS=100;X-TITLE=Plaine de Co
 inte:geo:0,0
END:VEVENT
BEGIN:VTIMEZONE
TZID:Europe/Brussels
X-LIC-LOCATION:Europe/Brussels
BEGIN:STANDARD
DTSTART:20251026T020000
TZOFFSETFROM:+0200
TZOFFSETTO:+0100
TZNAME:CET
END:STANDARD
END:VTIMEZONE
END:VCALENDAR